BEGIN:VCALENDAR
VERSION:2.0
PRODID:-//Pleasant View Golf Club - ECPv6.15.20//NONSGML v1.0//EN
CALSCALE:GREGORIAN
METHOD:PUBLISH
X-ORIGINAL-URL:https://pleasantviewgolfclub.com
X-WR-CALDESC:Events for Pleasant View Golf Club
REFRESH-INTERVAL;VALUE=DURATION:PT1H
X-Robots-Tag:noindex
X-PUBLISHED-TTL:PT1H
BEGIN:VTIMEZONE
TZID:America/Toronto
BEGIN:DAYLIGHT
TZOFFSETFROM:-0500
TZOFFSETTO:-0400
TZNAME:EDT
DTSTART:20250309T070000
END:DAYLIGHT
BEGIN:STANDARD
TZOFFSETFROM:-0400
TZOFFSETTO:-0500
TZNAME:EST
DTSTART:20251102T060000
END:STANDARD
BEGIN:DAYLIGHT
TZOFFSETFROM:-0500
TZOFFSETTO:-0400
TZNAME:EDT
DTSTART:20260308T070000
END:DAYLIGHT
BEGIN:STANDARD
TZOFFSETFROM:-0400
TZOFFSETTO:-0500
TZNAME:EST
DTSTART:20261101T060000
END:STANDARD
BEGIN:DAYLIGHT
TZOFFSETFROM:-0500
TZOFFSETTO:-0400
TZNAME:EDT
DTSTART:20270314T070000
END:DAYLIGHT
BEGIN:STANDARD
TZOFFSETFROM:-0400
TZOFFSETTO:-0500
TZNAME:EST
DTSTART:20271107T060000
END:STANDARD
END:VTIMEZONE
BEGIN:VEVENT
DTSTART;TZID=America/Toronto:20260503T080000
DTEND;TZID=America/Toronto:20260503T170000
DTSTAMP:20260425T083658
CREATED:20260319T185545Z
LAST-MODIFIED:20260319T185545Z
UID:15538-1777795200-1777827600@pleasantviewgolfclub.com
SUMMARY:Marlington Athletic Booster Club Scramble Fundraiser
DESCRIPTION:Get your foursome together for the Marlington Athletic Booster Club 4-Person Scramble on Sunday\, May 3rd! This action-packed fundraiser offers two shotgun starts at 8 AM and 2 PM\, making it easy to fit into your schedule. For $360 per team\, players will enjoy 18 holes of golf with a cart\, lunch on the turn\, a full buffet dinner\, and beverages to keep you fueled all day.  \nBeyond the glory\, we’re awarding prizes for the top three teams\, longest drive\, and closest to the pin—plus\, you can jump in on the 50/50 raffle and optional skins game. \nRegistration is officially open online\, and spots fill up fast. Don’t miss out on a fantastic day of golf that directly benefits Marlington Local Schools’ student-athletes; secure your team’s spot today! \nCLICK HERE TO REGISTER YOUR TEAM
URL:https://pleasantviewgolfclub.com/event/marlington-athletic-booster-club-scramble-fundraiser/
CATEGORIES:School Fundraisers
END:VEVENT
BEGIN:VEVENT
DTSTART;TZID=America/Toronto:20260509T080000
DTEND;TZID=America/Toronto:20260509T140000
DTSTAMP:20260425T083658
CREATED:20260319T144013Z
LAST-MODIFIED:20260319T145611Z
UID:15535-1778313600-1778335200@pleasantviewgolfclub.com
SUMMARY:4th Annual Louisville Leopards Boys & Girls Golf Scramble
DESCRIPTION:Support the next generation of golfers and hit the links for the Louisville Leopards Boys & Girls Golf Program’s 4th Annual Golf Scramble on Saturday\, May 9th! The action kicks off with registration at 8 AM followed by a 9 AM shotgun start.  \nFor $400 per team\, your group will enjoy a full day of competition\, including a mid-round snack of a hot dog\, chips\, and a drink at the turn\, topped off with a premier lunch provided by Scratch’s Steakhouse. \nBeyond bragging rights\, prizes will be awarded to winners of the Skins Game\, Closest to the Pin\, Longest Drive & Longest Putt\, and 50/50 raffle. \nOnline registration is officially live—secure your team’s spot today by clicking the link below! \nCLICK HERE TO REGISTER YOUR TEAM
URL:https://pleasantviewgolfclub.com/event/4th-annual-louisville-leopards-boys-girls-golf-scramble/
CATEGORIES:School Fundraisers
END:VEVENT
END:VCALENDAR