BEGIN:VCALENDAR
VERSION:2.0
PRODID:-//Pleasant View Golf Club - ECPv6.15.20//NONSGML v1.0//EN
CALSCALE:GREGORIAN
METHOD:PUBLISH
X-WR-CALNAME:Pleasant View Golf Club
X-ORIGINAL-URL:https://pleasantviewgolfclub.com
X-WR-CALDESC:Events for Pleasant View Golf Club
REFRESH-INTERVAL;VALUE=DURATION:PT1H
X-Robots-Tag:noindex
X-PUBLISHED-TTL:PT1H
BEGIN:VTIMEZONE
TZID:America/Toronto
BEGIN:DAYLIGHT
TZOFFSETFROM:-0500
TZOFFSETTO:-0400
TZNAME:EDT
DTSTART:20230312T070000
END:DAYLIGHT
BEGIN:STANDARD
TZOFFSETFROM:-0400
TZOFFSETTO:-0500
TZNAME:EST
DTSTART:20231105T060000
END:STANDARD
BEGIN:DAYLIGHT
TZOFFSETFROM:-0500
TZOFFSETTO:-0400
TZNAME:EDT
DTSTART:20240310T070000
END:DAYLIGHT
BEGIN:STANDARD
TZOFFSETFROM:-0400
TZOFFSETTO:-0500
TZNAME:EST
DTSTART:20241103T060000
END:STANDARD
BEGIN:DAYLIGHT
TZOFFSETFROM:-0500
TZOFFSETTO:-0400
TZNAME:EDT
DTSTART:20250309T070000
END:DAYLIGHT
BEGIN:STANDARD
TZOFFSETFROM:-0400
TZOFFSETTO:-0500
TZNAME:EST
DTSTART:20251102T060000
END:STANDARD
BEGIN:DAYLIGHT
TZOFFSETFROM:-0500
TZOFFSETTO:-0400
TZNAME:EDT
DTSTART:20260308T070000
END:DAYLIGHT
BEGIN:STANDARD
TZOFFSETFROM:-0400
TZOFFSETTO:-0500
TZNAME:EST
DTSTART:20261101T060000
END:STANDARD
END:VTIMEZONE
BEGIN:VEVENT
DTSTART;TZID=America/Toronto:20250617T170000
DTEND;TZID=America/Toronto:20250617T190000
DTSTAMP:20260423T201447
CREATED:20250225T162432Z
LAST-MODIFIED:20250225T162432Z
UID:15141-1750179600-1750186800@pleasantviewgolfclub.com
SUMMARY:Spark Golf
DESCRIPTION:Play Spark Golf with Friends \n• • • • • • • • • • \n  \nSpark Golf leagues are 9-hole\, social golf leagues that are played under a relaxed set of rules to make the experience casual and fun with a touch of friendly competition. \nJoining a league is free! League rounds are available for purchase each week or you can save money by pre-paying for Spark credit at a discount. \nGreen fees are $32 each week with a cart included. \nprizes are included in green fees \nSpark Golf will meet every TUESDAY from April 8th through  October 28th with a 5:00pm Shotgun Start. \nClick here to sign-up today!
URL:https://pleasantviewgolfclub.com/event/spark-golf-27/2025-06-17/
END:VEVENT
BEGIN:VEVENT
DTSTART;TZID=America/Toronto:20250614T083000
DTEND;TZID=America/Toronto:20250614T170000
DTSTAMP:20260423T201448
CREATED:20250520T141056Z
LAST-MODIFIED:20250520T141056Z
UID:15253-1749889800-1749920400@pleasantviewgolfclub.com
SUMMARY:5th Annual RAM Ministries
DESCRIPTION:5th Annual RAM Ministries \nSaturday\, June 14 • 9am Shotgun \n• • • • • • • • • • \n  \nWe are excited to announce the 5th Annual RAM Ministries Golf Outing. Registration will begin at 8:30am with a 9am shotgun start. \n\nEntry Fee is $100 per person \nincludes the following: 18 hole of golf\, 1/2 cart\, coffee\, doughnuts\, beer\, water\, soda\, hot dog and chips at the turn\, hot lunch\, and skins \n\nAwesome Prizes • Raffles • 50/50 Drawing \n\nQuestions? Call or text Laura at (330) 206-0272 or Jordan at (330) 77-7293. \nClick here to register today! 
URL:https://pleasantviewgolfclub.com/event/5th-annual-ram-ministries/
END:VEVENT
BEGIN:VEVENT
DTSTART;TZID=America/Toronto:20250610T170000
DTEND;TZID=America/Toronto:20250610T190000
DTSTAMP:20260423T201448
CREATED:20250225T162432Z
LAST-MODIFIED:20250225T162432Z
UID:15140-1749574800-1749582000@pleasantviewgolfclub.com
SUMMARY:Spark Golf
DESCRIPTION:Play Spark Golf with Friends \n• • • • • • • • • • \n  \nSpark Golf leagues are 9-hole\, social golf leagues that are played under a relaxed set of rules to make the experience casual and fun with a touch of friendly competition. \nJoining a league is free! League rounds are available for purchase each week or you can save money by pre-paying for Spark credit at a discount. \nGreen fees are $32 each week with a cart included. \nprizes are included in green fees \nSpark Golf will meet every TUESDAY from April 8th through  October 28th with a 5:00pm Shotgun Start. \nClick here to sign-up today!
URL:https://pleasantviewgolfclub.com/event/spark-golf-27/2025-06-10/
END:VEVENT
BEGIN:VEVENT
DTSTART;TZID=America/Toronto:20250603T170000
DTEND;TZID=America/Toronto:20250603T190000
DTSTAMP:20260423T201448
CREATED:20250225T162432Z
LAST-MODIFIED:20250225T162432Z
UID:15139-1748970000-1748977200@pleasantviewgolfclub.com
SUMMARY:Spark Golf
DESCRIPTION:Play Spark Golf with Friends \n• • • • • • • • • • \n  \nSpark Golf leagues are 9-hole\, social golf leagues that are played under a relaxed set of rules to make the experience casual and fun with a touch of friendly competition. \nJoining a league is free! League rounds are available for purchase each week or you can save money by pre-paying for Spark credit at a discount. \nGreen fees are $32 each week with a cart included. \nprizes are included in green fees \nSpark Golf will meet every TUESDAY from April 8th through  October 28th with a 5:00pm Shotgun Start. \nClick here to sign-up today!
URL:https://pleasantviewgolfclub.com/event/spark-golf-27/2025-06-03/
END:VEVENT
BEGIN:VEVENT
DTSTART;TZID=America/Toronto:20250527T170000
DTEND;TZID=America/Toronto:20250527T190000
DTSTAMP:20260423T201448
CREATED:20250225T162432Z
LAST-MODIFIED:20250225T162432Z
UID:15138-1748365200-1748372400@pleasantviewgolfclub.com
SUMMARY:Spark Golf
DESCRIPTION:Play Spark Golf with Friends \n• • • • • • • • • • \n  \nSpark Golf leagues are 9-hole\, social golf leagues that are played under a relaxed set of rules to make the experience casual and fun with a touch of friendly competition. \nJoining a league is free! League rounds are available for purchase each week or you can save money by pre-paying for Spark credit at a discount. \nGreen fees are $32 each week with a cart included. \nprizes are included in green fees \nSpark Golf will meet every TUESDAY from April 8th through  October 28th with a 5:00pm Shotgun Start. \nClick here to sign-up today!
URL:https://pleasantviewgolfclub.com/event/spark-golf-27/2025-05-27/
END:VEVENT
BEGIN:VEVENT
DTSTART;VALUE=DATE:20250523
DTEND;VALUE=DATE:20250527
DTSTAMP:20260423T201448
CREATED:20250521T122435Z
LAST-MODIFIED:20250521T122435Z
UID:15262-1747958400-1748303999@pleasantviewgolfclub.com
SUMMARY:Memorial Day Weekend Specials
DESCRIPTION:Memorial Day Specials at Pleasant View \nFriday\, May 23rd – Monday\, May 26th \n• • • • • • • • • • \n  \nGet ready to celebrate Memorial Day Weekend with some incredible savings! We’re rolling out fantastic deals on tee times\, apparel\, equipment\, and more\, perfect for enjoying the long weekend on the links. \n  \nOnline Tee Time Specials \nBook your Memorial Day weekend rounds now and take advantage of our exclusive online tee time specials!  \nDon’t miss out on the best rates and availability. \n  \nGolf Shop Specials \nStep up your game and style with these limited-time offers in our Golf Shop: \n20% off Red\, White\, or Blue Apparel\n$50 off Select Wedges\nSrixon Dozen Special\n15% off Footwear \n  \nThese specials are valid all Memorial Day Weekend. Come out\, grab some deals\, and enjoy a memorable weekend of golf! \n  \nClick here to book a tee time.
URL:https://pleasantviewgolfclub.com/event/memorial-day-weekend-specials-2/
END:VEVENT
BEGIN:VEVENT
DTSTART;TZID=America/Toronto:20250520T170000
DTEND;TZID=America/Toronto:20250520T190000
DTSTAMP:20260423T201448
CREATED:20250225T162432Z
LAST-MODIFIED:20250225T162432Z
UID:15137-1747760400-1747767600@pleasantviewgolfclub.com
SUMMARY:Spark Golf
DESCRIPTION:Play Spark Golf with Friends \n• • • • • • • • • • \n  \nSpark Golf leagues are 9-hole\, social golf leagues that are played under a relaxed set of rules to make the experience casual and fun with a touch of friendly competition. \nJoining a league is free! League rounds are available for purchase each week or you can save money by pre-paying for Spark credit at a discount. \nGreen fees are $32 each week with a cart included. \nprizes are included in green fees \nSpark Golf will meet every TUESDAY from April 8th through  October 28th with a 5:00pm Shotgun Start. \nClick here to sign-up today!
URL:https://pleasantviewgolfclub.com/event/spark-golf-27/2025-05-20/
END:VEVENT
BEGIN:VEVENT
DTSTART;TZID=America/Toronto:20250513T170000
DTEND;TZID=America/Toronto:20250513T190000
DTSTAMP:20260423T201448
CREATED:20250225T162432Z
LAST-MODIFIED:20250225T162432Z
UID:15136-1747155600-1747162800@pleasantviewgolfclub.com
SUMMARY:Spark Golf
DESCRIPTION:Play Spark Golf with Friends \n• • • • • • • • • • \n  \nSpark Golf leagues are 9-hole\, social golf leagues that are played under a relaxed set of rules to make the experience casual and fun with a touch of friendly competition. \nJoining a league is free! League rounds are available for purchase each week or you can save money by pre-paying for Spark credit at a discount. \nGreen fees are $32 each week with a cart included. \nprizes are included in green fees \nSpark Golf will meet every TUESDAY from April 8th through  October 28th with a 5:00pm Shotgun Start. \nClick here to sign-up today!
URL:https://pleasantviewgolfclub.com/event/spark-golf-27/2025-05-13/
END:VEVENT
BEGIN:VEVENT
DTSTART;TZID=America/Toronto:20250506T170000
DTEND;TZID=America/Toronto:20250506T190000
DTSTAMP:20260423T201448
CREATED:20250225T162432Z
LAST-MODIFIED:20250225T162432Z
UID:15135-1746550800-1746558000@pleasantviewgolfclub.com
SUMMARY:Spark Golf
DESCRIPTION:Play Spark Golf with Friends \n• • • • • • • • • • \n  \nSpark Golf leagues are 9-hole\, social golf leagues that are played under a relaxed set of rules to make the experience casual and fun with a touch of friendly competition. \nJoining a league is free! League rounds are available for purchase each week or you can save money by pre-paying for Spark credit at a discount. \nGreen fees are $32 each week with a cart included. \nprizes are included in green fees \nSpark Golf will meet every TUESDAY from April 8th through  October 28th with a 5:00pm Shotgun Start. \nClick here to sign-up today!
URL:https://pleasantviewgolfclub.com/event/spark-golf-27/2025-05-06/
END:VEVENT
BEGIN:VEVENT
DTSTART;VALUE=DATE:20250504
DTEND;VALUE=DATE:20250505
DTSTAMP:20260423T201448
CREATED:20250407T122221Z
LAST-MODIFIED:20250408T125916Z
UID:15216-1746316800-1746403199@pleasantviewgolfclub.com
SUMMARY:2025 Marlington Athletic Booster Club
DESCRIPTION:2025 Marlington Athletic Booster Club \nSunday\, May 4th • 8am or 2pm Shotgun \n• • • • • • • • • • \n  \nWe are excited to announce the 2025 Marlington Booster Club Four Person Scramble at Pleasant View! Join us for a day of fun\, friendly competition\, and fundraising to support the Marlington Booster Club. \nEntry Fee is $340 per four person team \nincludes the following: 18 hole of golf\, 1/2 cart\, lunch on turn\, buffet dinner to follow\, beverages throughout the day \nPrizes Include the following: \n1st\, 2nd\, and 3rd place teams\, Long Drive\, Closest to Pin\,  \n50/50\, and Optional Skins Game \nThis is a fantastic opportunity to enjoy a day on the course while supporting the Marlington Booster Club and our student-athletes. \n  \nClick here to register online today!
URL:https://pleasantviewgolfclub.com/event/2025-marlington-athletic-booster-club/
END:VEVENT
BEGIN:VEVENT
DTSTART;TZID=America/Toronto:20250429T170000
DTEND;TZID=America/Toronto:20250429T190000
DTSTAMP:20260423T201448
CREATED:20250225T162432Z
LAST-MODIFIED:20250225T162432Z
UID:15134-1745946000-1745953200@pleasantviewgolfclub.com
SUMMARY:Spark Golf
DESCRIPTION:Play Spark Golf with Friends \n• • • • • • • • • • \n  \nSpark Golf leagues are 9-hole\, social golf leagues that are played under a relaxed set of rules to make the experience casual and fun with a touch of friendly competition. \nJoining a league is free! League rounds are available for purchase each week or you can save money by pre-paying for Spark credit at a discount. \nGreen fees are $32 each week with a cart included. \nprizes are included in green fees \nSpark Golf will meet every TUESDAY from April 8th through  October 28th with a 5:00pm Shotgun Start. \nClick here to sign-up today!
URL:https://pleasantviewgolfclub.com/event/spark-golf-27/2025-04-29/
END:VEVENT
BEGIN:VEVENT
DTSTART;TZID=America/Toronto:20250422T170000
DTEND;TZID=America/Toronto:20250422T190000
DTSTAMP:20260423T201448
CREATED:20250225T162432Z
LAST-MODIFIED:20250225T162432Z
UID:15133-1745341200-1745348400@pleasantviewgolfclub.com
SUMMARY:Spark Golf
DESCRIPTION:Play Spark Golf with Friends \n• • • • • • • • • • \n  \nSpark Golf leagues are 9-hole\, social golf leagues that are played under a relaxed set of rules to make the experience casual and fun with a touch of friendly competition. \nJoining a league is free! League rounds are available for purchase each week or you can save money by pre-paying for Spark credit at a discount. \nGreen fees are $32 each week with a cart included. \nprizes are included in green fees \nSpark Golf will meet every TUESDAY from April 8th through  October 28th with a 5:00pm Shotgun Start. \nClick here to sign-up today!
URL:https://pleasantviewgolfclub.com/event/spark-golf-27/2025-04-22/
END:VEVENT
BEGIN:VEVENT
DTSTART;TZID=America/Toronto:20250415T170000
DTEND;TZID=America/Toronto:20250415T190000
DTSTAMP:20260423T201448
CREATED:20250225T162432Z
LAST-MODIFIED:20250225T162432Z
UID:15132-1744736400-1744743600@pleasantviewgolfclub.com
SUMMARY:Spark Golf
DESCRIPTION:Play Spark Golf with Friends \n• • • • • • • • • • \n  \nSpark Golf leagues are 9-hole\, social golf leagues that are played under a relaxed set of rules to make the experience casual and fun with a touch of friendly competition. \nJoining a league is free! League rounds are available for purchase each week or you can save money by pre-paying for Spark credit at a discount. \nGreen fees are $32 each week with a cart included. \nprizes are included in green fees \nSpark Golf will meet every TUESDAY from April 8th through  October 28th with a 5:00pm Shotgun Start. \nClick here to sign-up today!
URL:https://pleasantviewgolfclub.com/event/spark-golf-27/2025-04-15/
END:VEVENT
BEGIN:VEVENT
DTSTART;TZID=America/Toronto:20250408T170000
DTEND;TZID=America/Toronto:20250408T190000
DTSTAMP:20260423T201448
CREATED:20250225T162432Z
LAST-MODIFIED:20250227T194643Z
UID:15122-1744131600-1744138800@pleasantviewgolfclub.com
SUMMARY:Spark Golf
DESCRIPTION:Play Spark Golf with Friends \n• • • • • • • • • • \n  \nSpark Golf leagues are 9-hole\, social golf leagues that are played under a relaxed set of rules to make the experience casual and fun with a touch of friendly competition. \nJoining a league is free! League rounds are available for purchase each week or you can save money by pre-paying for Spark credit at a discount. \nGreen fees are $32 each week with a cart included. \nprizes are included in green fees \nSpark Golf will meet every TUESDAY from April 8th through  October 28th with a 5:00pm Shotgun Start. \nClick here to sign-up today!
URL:https://pleasantviewgolfclub.com/event/spark-golf-27/2025-04-08/
END:VEVENT
BEGIN:VEVENT
DTSTART;VALUE=DATE:20250310
DTEND;VALUE=DATE:20250311
DTSTAMP:20260423T201448
CREATED:20250307T211446Z
LAST-MODIFIED:20250307T211446Z
UID:15168-1741564800-1741651199@pleasantviewgolfclub.com
SUMMARY:2025 Season Opener
DESCRIPTION:Season Opener is HERE \nMonday\, March 10th \n• • • • • • • • • • \n\nJoin us for a year of celebration!\nWe’re honoring 60 years on the fairways in 2025 \n\nThis year\, we’re not just opening our doors; we’re celebrating 60 years of cherished memories and looking forward to creating many more with you. \n\nCall the course for conditions and \ncart availability at (330) 862-2034.
URL:https://pleasantviewgolfclub.com/event/2025-season-opener/
END:VEVENT
BEGIN:VEVENT
DTSTART;VALUE=DATE:20241127
DTEND;VALUE=DATE:20241203
DTSTAMP:20260423T201448
CREATED:20241106T190911Z
LAST-MODIFIED:20241106T190911Z
UID:15048-1732665600-1733183999@pleasantviewgolfclub.com
SUMMARY:Black Friday Deals
DESCRIPTION:BLACK FRIDAY SALES ARE HERE \nNovember 27th – December 2nd \n• • • • • • • • • •  \n  \nSEASON PASSES \n• • • • • • • • • •  \n5% off all 2025  \nSeason Passes \n  \nGIFT CARDS \n• • • • • • • • • •  \nBuy a $100 gift card and receive an extra $20 \nAdded value will be added to your account after purchase \nPURCHASE A GIFT CARD HERE \n  \nPRO SHOP DISCOUNTS \n• • • • • • • • • •  \nAdidas Shirts and Shorts • 35% off \nMAXX Sunglasses • 30% off \nSrixon Stand Golf Bags • 40% off \nCleveland Cart Bags • 25% off \nBridgestone/Cleveland/Srixon Hats • 40% off \nPV Hats • 50% off \nUmbrellas and Bag Umbrellas • 25% off \nGolf Shoes • 20% off \nSrixon/Cleveland Woods • $30 gift card per wood and up to $150 off \nCleveland RTX 6 & RTX Full-Face Wedges • $50 off \nSelect Cleveland Putters • $110 \nPurchase a set of Srixon Irons and receive a Srixon Stand Bag Free \nBuy 2 dozen Srixon Z-Star Series and receive a free Srixon Hat \nBridgestone e9 dozens • 2 for $50 \nBridgestone e12 dozens • 2 for $55 \nSrixon Soft Feel/Brites dozens • 2 for $40 \nSrixon Q-Star dozens • 2 for $50  \n  \nPRO SHOP PACKAGES \n• • • • • • • • • •  \nAdidas Apparel Package – $120 \nAdidas Polo\, Adidas Rain Jacket\, Adidas Hat\, and PV Caddie Towel \nAsics Package – $195 \nAsics Kayano Ace Shoes\, and Adidas Polo\, and Bridgestone e9 or e12 Dozen \nLong Game Improvement – Receive a $150 Gift Card \nBuy a Srixon Driver and 2 other Srixon woods or hybrids \n  \nSTOP BY THE PRO SHOP TO SHOP TODAY
URL:https://pleasantviewgolfclub.com/event/black-friday-deals/
END:VEVENT
BEGIN:VEVENT
DTSTART;TZID=America/Toronto:20241005T090000
DTEND;TZID=America/Toronto:20241005T170000
DTSTAMP:20260423T201448
CREATED:20240819T175845Z
LAST-MODIFIED:20240819T175845Z
UID:14987-1728118800-1728147600@pleasantviewgolfclub.com
SUMMARY:Ohio Resilience Golf Outing
DESCRIPTION:Ohio Resilience Golf Outing \nSaturday\, October 5th • 9am Shotgun \n\nAll proceeds go to Ohio Resilience Travel Softball Organization. \n\nEntry fee: $400/foursome or $30 nongolfers \nincludes: 18 holes of golf\, lunch at turn\, dinner\, unlimited beer \n\nBring Cash – Raffles\, 50/50\, and Silent Auction \n\nMen/Women Longest Drive • Closest to the Pin • Longest Putt \n\nTo sign-up or become a sponsor contact Marty Reynolds.  \ndamartyman@yahoo.com or 330-328-7870 \nRegistration deadline is September 21st.
URL:https://pleasantviewgolfclub.com/event/ohio-resilience-golf-outing/
END:VEVENT
BEGIN:VEVENT
DTSTART;TZID=America/Toronto:20241001T170000
DTEND;TZID=America/Toronto:20241001T200000
DTSTAMP:20260423T201448
CREATED:20240306T144430Z
LAST-MODIFIED:20240306T144430Z
UID:14701-1727802000-1727812800@pleasantviewgolfclub.com
SUMMARY:Spark Golf
DESCRIPTION:Play Spark Golf at Pleasant View Golf Club \nEvery Tuesday Night at 5:00 pm \nSpark is a 9-hole\, social golf league organized to be casual and fun\, with a touch of friendly competition. \nSpark Golf will be played from April 9th – October 1st. \nRegister for FREE online today for Spark Golf.
URL:https://pleasantviewgolfclub.com/event/spark-golf-26/
END:VEVENT
BEGIN:VEVENT
DTSTART;TZID=America/Toronto:20240924T170000
DTEND;TZID=America/Toronto:20240924T200000
DTSTAMP:20260423T201448
CREATED:20240306T144339Z
LAST-MODIFIED:20240306T144339Z
UID:14699-1727197200-1727208000@pleasantviewgolfclub.com
SUMMARY:Spark Golf
DESCRIPTION:Play Spark Golf at Pleasant View Golf Club \nEvery Tuesday Night at 5:00 pm \nSpark is a 9-hole\, social golf league organized to be casual and fun\, with a touch of friendly competition. \nSpark Golf will be played from April 9th – October 1st. \nRegister for FREE online today for Spark Golf.
URL:https://pleasantviewgolfclub.com/event/spark-golf-25/
END:VEVENT
BEGIN:VEVENT
DTSTART;TZID=America/Toronto:20240917T170000
DTEND;TZID=America/Toronto:20240917T200000
DTSTAMP:20260423T201448
CREATED:20240306T144314Z
LAST-MODIFIED:20240306T144314Z
UID:14697-1726592400-1726603200@pleasantviewgolfclub.com
SUMMARY:Spark Golf
DESCRIPTION:Play Spark Golf at Pleasant View Golf Club \nEvery Tuesday Night at 5:00 pm \nSpark is a 9-hole\, social golf league organized to be casual and fun\, with a touch of friendly competition. \nSpark Golf will be played from April 9th – October 1st. \nRegister for FREE online today for Spark Golf.
URL:https://pleasantviewgolfclub.com/event/spark-golf-24/
END:VEVENT
BEGIN:VEVENT
DTSTART;TZID=America/Toronto:20240914T123000
DTEND;TZID=America/Toronto:20240914T200000
DTSTAMP:20260423T201448
CREATED:20240819T175316Z
LAST-MODIFIED:20240819T175617Z
UID:14974-1726317000-1726344000@pleasantviewgolfclub.com
SUMMARY:Keep Zumbar Treasurer Fundraising Scramble
DESCRIPTION:Keep Zumbar Treasurer Fundraising Scramble \nSaturday\, September 14th\, 2024 \n12:30 Registration • 1:30 Shotgun \nCome out and join the Keep Zumbar Treasurer Campaign as we host \n our 2024 Golf Scramble Fundraiser event to Keep Alexander A. Zumbar  \nour Stark County Treasurer! \nEntry fee: $90/golfer or $360/4 person team \nincludes: green fees\, carts\, beverages\, lunch at the turn\, and dinner at 6:30pm \nHole Sponsorships: $100 per hole \nHost Sponsorship: $500 includes team fee\, mulligans\, and team skins \nFor questions or to become a sponsor\, please contact azumbar@neo.rr.com or call 330-581-1543 \nRegistration deadline is September 9th  \nLimited to the first 18 paid teams. Click here to register. 
URL:https://pleasantviewgolfclub.com/event/keep-zumbar-treasurer-fundraising-scramble/
END:VEVENT
BEGIN:VEVENT
DTSTART;TZID=America/Toronto:20240910T170000
DTEND;TZID=America/Toronto:20240910T200000
DTSTAMP:20260423T201448
CREATED:20240306T144236Z
LAST-MODIFIED:20240306T144236Z
UID:14695-1725987600-1725998400@pleasantviewgolfclub.com
SUMMARY:Spark Golf
DESCRIPTION:Play Spark Golf at Pleasant View Golf Club \nEvery Tuesday Night at 5:00 pm \nSpark is a 9-hole\, social golf league organized to be casual and fun\, with a touch of friendly competition. \nSpark Golf will be played from April 9th – October 1st. \nRegister for FREE online today for Spark Golf.
URL:https://pleasantviewgolfclub.com/event/spark-golf-23/
END:VEVENT
BEGIN:VEVENT
DTSTART;TZID=America/Toronto:20240908T133000
DTEND;TZID=America/Toronto:20240908T190000
DTSTAMP:20260423T201448
CREATED:20240618T130227Z
LAST-MODIFIED:20240618T130227Z
UID:14882-1725802200-1725822000@pleasantviewgolfclub.com
SUMMARY:Wade Main Memorial Scramble
DESCRIPTION:Wade Main Memorial Scramble \nSunday\, September 8th • 1:30pm Shotgun \n• • • • • • • • • • \nEntry Fee: $80/player or $320/team\nincludes 18 holes w/ carts\, 2 free drink tickets\, hot dog at the turn\, and a catered dinner during the awards \n\nGames • Prizes • 50/50 Drawing • Skins Game • Raffle Baskets \nClick here to register today. \nRegistration deadline is August 28th
URL:https://pleasantviewgolfclub.com/event/wade-main-memorial-scramble/
END:VEVENT
BEGIN:VEVENT
DTSTART;TZID=America/Toronto:20240907T120000
DTEND;TZID=America/Toronto:20240907T170000
DTSTAMP:20260423T201448
CREATED:20240819T175530Z
LAST-MODIFIED:20240819T175530Z
UID:14980-1725710400-1725728400@pleasantviewgolfclub.com
SUMMARY:2024 Louisville Youth Football Memorial
DESCRIPTION:2024 Louisville Youth Football Memorial \nSaturday\, September 7th\, 2024 \n12:00 Registration • 1:00 Tee Times \n\n\nThe Louisville Youth Football Memorial each year hands out scholarships  \nto football players wanting to further their education. The football player  \nmust have played in Little Leopards and the Louisville High School Football program. The scholarships awarded to students are named in honor of past  \nLittle Leopard players\, coaches\, officers\, or members of the Louisville Youth Football Memorial. \n  \nEntry fee: $75/golfer or $300/4 person team \nincludes: 18 holes with cart\, beer\, pop\, and lunch \n\nPrizes • Raffles • 50/50 • Lots of Fun \n\nHole Sponsorships: $50 includes a sign \nFlag Sponsorship: $100 includes a flag on display to take home \n\nRegistration deadline is August 27th. Click here to register. 
URL:https://pleasantviewgolfclub.com/event/2024-louisville-youth-football-memorial/
END:VEVENT
BEGIN:VEVENT
DTSTART;TZID=America/Toronto:20240903T170000
DTEND;TZID=America/Toronto:20240903T200000
DTSTAMP:20260423T201448
CREATED:20240306T144123Z
LAST-MODIFIED:20240306T144123Z
UID:14693-1725382800-1725393600@pleasantviewgolfclub.com
SUMMARY:Spark Golf
DESCRIPTION:Play Spark Golf at Pleasant View Golf Club \nEvery Tuesday Night at 5:00 pm \nSpark is a 9-hole\, social golf league organized to be casual and fun\, with a touch of friendly competition. \nSpark Golf will be played from April 9th – October 1st. \nRegister for FREE online today for Spark Golf.
URL:https://pleasantviewgolfclub.com/event/spark-golf-22/
END:VEVENT
BEGIN:VEVENT
DTSTART;TZID=America/Toronto:20240827T170000
DTEND;TZID=America/Toronto:20240827T200000
DTSTAMP:20260423T201448
CREATED:20240306T144035Z
LAST-MODIFIED:20240306T144035Z
UID:14691-1724778000-1724788800@pleasantviewgolfclub.com
SUMMARY:Spark Golf
DESCRIPTION:Play Spark Golf at Pleasant View Golf Club \nEvery Tuesday Night at 5:00 pm \nSpark is a 9-hole\, social golf league organized to be casual and fun\, with a touch of friendly competition. \nSpark Golf will be played from April 9th – October 1st. \nRegister for FREE online today for Spark Golf.
URL:https://pleasantviewgolfclub.com/event/spark-golf-21/
END:VEVENT
BEGIN:VEVENT
DTSTART;TZID=America/Toronto:20240820T170000
DTEND;TZID=America/Toronto:20240820T200000
DTSTAMP:20260423T201448
CREATED:20240306T143948Z
LAST-MODIFIED:20240306T143948Z
UID:14689-1724173200-1724184000@pleasantviewgolfclub.com
SUMMARY:Spark Golf
DESCRIPTION:Play Spark Golf at Pleasant View Golf Club \nEvery Tuesday Night at 5:00 pm \nSpark is a 9-hole\, social golf league organized to be casual and fun\, with a touch of friendly competition. \nSpark Golf will be played from April 9th – October 1st. \nRegister for FREE online today for Spark Golf.
URL:https://pleasantviewgolfclub.com/event/spark-golf-20/
END:VEVENT
BEGIN:VEVENT
DTSTART;TZID=America/Toronto:20240817T080000
DTEND;TZID=America/Toronto:20240817T170000
DTSTAMP:20260423T201448
CREATED:20240604T141639Z
LAST-MODIFIED:20240604T141639Z
UID:14858-1723881600-1723914000@pleasantviewgolfclub.com
SUMMARY:Chipping In For Our Kids
DESCRIPTION:Chipping In For Our Kids\nSaturday\, August 17th • 8:30am Shotgun \n • • • • • • •\nJoin us on Saturday\, August 17\, 2024 at Pleasant View Golf Club for our annual golf scramble! Golf will begin with an 8:30 a.m. shotgun start and includes 18 holes with cart\, food at the turn\, beverage tickets\, dinner\, contests\, and prizes. \n\nEarly bird: $95/golfer (if registered by July 30th) • Late bird: $115/golfer (if registered after July 30th) \n\nYour participation is critical in helping Stark County Children Services meet the needs of the children and families they serve. All proceeds will benefit Stark County Citizens for Children Services\, a political action committee that actively supports the Children Services levy. \n\nQuestions? Call Jerry at 330-988-4522 or Sarah at 330-697-6545. Sponsorships are available – ask us for more information!​ Paid for by Stark County Citizens for Children Services\, Patricia S. Croskey\, Treasurer\, 500 22nd St. NW\, Canton\, Ohio 44709. \n\nClick here to register.
URL:https://pleasantviewgolfclub.com/event/chipping-in-for-our-kids/
END:VEVENT
BEGIN:VEVENT
DTSTART;TZID=America/Toronto:20240813T170000
DTEND;TZID=America/Toronto:20240813T200000
DTSTAMP:20260423T201448
CREATED:20240306T143850Z
LAST-MODIFIED:20240306T143850Z
UID:14687-1723568400-1723579200@pleasantviewgolfclub.com
SUMMARY:Spark Golf
DESCRIPTION:Play Spark Golf at Pleasant View Golf Club \nEvery Tuesday Night at 5:00 pm \nSpark is a 9-hole\, social golf league organized to be casual and fun\, with a touch of friendly competition. \nSpark Golf will be played from April 9th – October 1st. \nRegister for FREE online today for Spark Golf.
URL:https://pleasantviewgolfclub.com/event/spark-golf-19/
END:VEVENT
BEGIN:VEVENT
DTSTART;TZID=America/Toronto:20240806T170000
DTEND;TZID=America/Toronto:20240806T200000
DTSTAMP:20260423T201448
CREATED:20240306T143721Z
LAST-MODIFIED:20240306T143721Z
UID:14685-1722963600-1722974400@pleasantviewgolfclub.com
SUMMARY:Spark Golf
DESCRIPTION:Play Spark Golf at Pleasant View Golf Club \nEvery Tuesday Night at 5:00 pm \nSpark is a 9-hole\, social golf league organized to be casual and fun\, with a touch of friendly competition. \nSpark Golf will be played from April 9th – October 1st. \nRegister for FREE online today for Spark Golf.
URL:https://pleasantviewgolfclub.com/event/spark-golf-18/
END:VEVENT
END:VCALENDAR