BEGIN:VCALENDAR
VERSION:2.0
PRODID:-//Pleasant View Golf Club - ECPv6.15.20//NONSGML v1.0//EN
CALSCALE:GREGORIAN
METHOD:PUBLISH
X-WR-CALNAME:Pleasant View Golf Club
X-ORIGINAL-URL:https://pleasantviewgolfclub.com
X-WR-CALDESC:Events for Pleasant View Golf Club
REFRESH-INTERVAL;VALUE=DURATION:PT1H
X-Robots-Tag:noindex
X-PUBLISHED-TTL:PT1H
BEGIN:VTIMEZONE
TZID:America/Toronto
BEGIN:DAYLIGHT
TZOFFSETFROM:-0500
TZOFFSETTO:-0400
TZNAME:EDT
DTSTART:20150308T070000
END:DAYLIGHT
BEGIN:STANDARD
TZOFFSETFROM:-0400
TZOFFSETTO:-0500
TZNAME:EST
DTSTART:20151101T060000
END:STANDARD
BEGIN:DAYLIGHT
TZOFFSETFROM:-0500
TZOFFSETTO:-0400
TZNAME:EDT
DTSTART:20160313T070000
END:DAYLIGHT
BEGIN:STANDARD
TZOFFSETFROM:-0400
TZOFFSETTO:-0500
TZNAME:EST
DTSTART:20161106T060000
END:STANDARD
BEGIN:DAYLIGHT
TZOFFSETFROM:-0500
TZOFFSETTO:-0400
TZNAME:EDT
DTSTART:20170312T070000
END:DAYLIGHT
BEGIN:STANDARD
TZOFFSETFROM:-0400
TZOFFSETTO:-0500
TZNAME:EST
DTSTART:20171105T060000
END:STANDARD
END:VTIMEZONE
BEGIN:VEVENT
DTSTART;TZID=America/Toronto:20160501T133000
DTEND;TZID=America/Toronto:20160501T183000
DTSTAMP:20260419T193239
CREATED:20160427T213237Z
LAST-MODIFIED:20160427T214125Z
UID:3623-1462109400-1462127400@pleasantviewgolfclub.com
SUMMARY:Marlington Athletic Booster Club
DESCRIPTION:Marlington Athletic Booster Club\n4-person Golf Scramble Fundraiser \n1:30 Shotgun Start\nSunday\, May 1\, 2016 \n$65 Per Person \n18 Holes and 1/2 Cart\nLunch on the Turn\nBuffet Dinner Afterwards\nBeverages throughout the Day \nPrizes for: \n1st\, 2nd\, and 3rd Place Teams\nLong Drive\nClosest to the Pin\n50/50\nOptional Skins Game \nFor more information\, Please contact Nick Evanich at 330-309-5045
URL:https://pleasantviewgolfclub.com/event/marlington-athletic-booster-club/
CATEGORIES:School Fundraisers
END:VEVENT
END:VCALENDAR